BEGIN:VCALENDAR
VERSION:2.0
PRODID:-//Teesside Princess - ECPv6.15.20//NONSGML v1.0//EN
CALSCALE:GREGORIAN
METHOD:PUBLISH
X-WR-CALNAME:Teesside Princess
X-ORIGINAL-URL:https://teessideprincess.co.uk
X-WR-CALDESC:Events for Teesside Princess
REFRESH-INTERVAL;VALUE=DURATION:PT1H
X-Robots-Tag:noindex
X-PUBLISHED-TTL:PT1H
BEGIN:VTIMEZONE
TZID:Europe/London
BEGIN:DAYLIGHT
TZOFFSETFROM:+0000
TZOFFSETTO:+0100
TZNAME:BST
DTSTART:20250330T010000
END:DAYLIGHT
BEGIN:STANDARD
TZOFFSETFROM:+0100
TZOFFSETTO:+0000
TZNAME:GMT
DTSTART:20251026T010000
END:STANDARD
BEGIN:DAYLIGHT
TZOFFSETFROM:+0000
TZOFFSETTO:+0100
TZNAME:BST
DTSTART:20260329T010000
END:DAYLIGHT
BEGIN:STANDARD
TZOFFSETFROM:+0100
TZOFFSETTO:+0000
TZNAME:GMT
DTSTART:20261025T010000
END:STANDARD
BEGIN:DAYLIGHT
TZOFFSETFROM:+0000
TZOFFSETTO:+0100
TZNAME:BST
DTSTART:20270328T010000
END:DAYLIGHT
BEGIN:STANDARD
TZOFFSETFROM:+0100
TZOFFSETTO:+0000
TZNAME:GMT
DTSTART:20271031T010000
END:STANDARD
END:VTIMEZONE
BEGIN:VEVENT
DTSTART;TZID=Europe/London:20260523T193000
DTEND;TZID=Europe/London:20260523T230000
DTSTAMP:20260420T223803
CREATED:20251103T144419Z
LAST-MODIFIED:20251103T145540Z
UID:10001547-1779564600-1779577200@teessideprincess.co.uk
SUMMARY:Murder Mystery Cruise
DESCRIPTION:This May is the return of our Murder Mystery evening \nPlay detective as we sail along the Tees\, serving up a 2 course set meal\, in a unique setting. \nWe’d KILL for you to join us! \nBoarding7pm for a 7.30pm departure….. \n***Please note dietary requirements must be pre booked. Meal is a chicken dinner\, Yorkshires\, roast potatoes and vegetables. Dessert chocolate fudge cake and cream.**** \n 
URL:https://teessideprincess.co.uk/event/murder-mystery-cruise/
LOCATION:Teesside Princess\, United Kingdom
CATEGORIES:Evening cruise,Monthly Events,night cruises,party nights,Special events
END:VEVENT
END:VCALENDAR