BEGIN:VCALENDAR
VERSION:2.0
PRODID:-//Teesside Princess - ECPv6.15.20//NONSGML v1.0//EN
CALSCALE:GREGORIAN
METHOD:PUBLISH
X-WR-CALNAME:Teesside Princess
X-ORIGINAL-URL:https://teessideprincess.co.uk
X-WR-CALDESC:Events for Teesside Princess
REFRESH-INTERVAL;VALUE=DURATION:PT1H
X-Robots-Tag:noindex
X-PUBLISHED-TTL:PT1H
BEGIN:VTIMEZONE
TZID:Europe/London
BEGIN:DAYLIGHT
TZOFFSETFROM:+0000
TZOFFSETTO:+0100
TZNAME:BST
DTSTART:20250330T010000
END:DAYLIGHT
BEGIN:STANDARD
TZOFFSETFROM:+0100
TZOFFSETTO:+0000
TZNAME:GMT
DTSTART:20251026T010000
END:STANDARD
BEGIN:DAYLIGHT
TZOFFSETFROM:+0000
TZOFFSETTO:+0100
TZNAME:BST
DTSTART:20260329T010000
END:DAYLIGHT
BEGIN:STANDARD
TZOFFSETFROM:+0100
TZOFFSETTO:+0000
TZNAME:GMT
DTSTART:20261025T010000
END:STANDARD
BEGIN:DAYLIGHT
TZOFFSETFROM:+0000
TZOFFSETTO:+0100
TZNAME:BST
DTSTART:20270328T010000
END:DAYLIGHT
BEGIN:STANDARD
TZOFFSETFROM:+0100
TZOFFSETTO:+0000
TZNAME:GMT
DTSTART:20271031T010000
END:STANDARD
END:VTIMEZONE
BEGIN:VEVENT
DTSTART;TZID=Europe/London:20260814T120000
DTEND;TZID=Europe/London:20260814T153000
DTSTAMP:20260420T175620
CREATED:20260414T135438Z
LAST-MODIFIED:20260414T140158Z
UID:10001798-1786708800-1786721400@teessideprincess.co.uk
SUMMARY:Teddy Bears Picnic
DESCRIPTION:JOIN US ON BOARD THIS HALF TERM \n\n\nWITH YOUR \n\n\nFUZZY FRIENDS \n\n\nAND ENJOY YOUR CLASSIC PICNIC ON BOARD THE TEESSIDE PRINCESS. \n\n\nSPEND AN HOUR IN PRESTON PARK. \n\n\nWHETHER ITS EXPLORING THE GROUNDS \n\n\nOR \n\n\nJUST FUN IN THE PLAY GROUND \n\n\nWE THEN SET SAIL HOME AND ENJOY \n\n\nSTORY TIME\, ARTS AND CRAFTS \n\n\nAND A FUN DISCO
URL:https://teessideprincess.co.uk/event/teddy-bears-picnic/
LOCATION:Teesside Princess\, United Kingdom
CATEGORIES:Afternoon Cruises,Child Friendly event,Daytime Cruises,Monthly Events,themed cruises
END:VEVENT
BEGIN:VEVENT
DTSTART;TZID=Europe/London:20260816T120000
DTEND;TZID=Europe/London:20260816T153000
DTSTAMP:20260420T175620
CREATED:20260116T113827Z
LAST-MODIFIED:20260116T113827Z
UID:10001712-1786881600-1786894200@teessideprincess.co.uk
SUMMARY:Traditional roast Dinner Cruise
DESCRIPTION:Cruise down the River Tees on a 3.5 hour trip with a delicious Roast Dinner. \nServing a 2-course lunch whilst you take in the sights of our stunning river. \nKeep a lookout for the wildlife\, you may be able to spot swans\, foxes\, kingfishers & deer as you sail up to Yarm and back down the Tees Barrage. \nThe 2-course lunch is made up of a traditional roast beef dinner\, served with seasonal vegetables\, followed by dessert. Beef can be swapped to Chicken with prior knowledge. \nBoarding 11.30am for 12pm cruise
URL:https://teessideprincess.co.uk/event/traditional-roast-dinner-cruise-11/
LOCATION:Teesside Princess\, United Kingdom
CATEGORIES:Afternoon Cruises,Child Friendly event,Daytime Cruises,Monthly Events,Sunday cruises,themed cruises,Traditional Roast
END:VEVENT
BEGIN:VEVENT
DTSTART;TZID=Europe/London:20260830T140000
DTEND;TZID=Europe/London:20260830T160000
DTSTAMP:20260420T175620
CREATED:20260122T123000Z
LAST-MODIFIED:20260219T151800Z
UID:10001765-1788098400-1788105600@teessideprincess.co.uk
SUMMARY:K-Pop Demon Hunters Childrens Cruise-sold out
DESCRIPTION:Coming Soon….. \n\n\n\nITS GOING TO BE GOLDEN WITH THIS 2 HOUR K-POP DEMON HUNTER EXCLUSIVE. \n\n\nJOIN RUMI AND DERPY WHILST THEY TRY TO SEAL THE HONMOON WITH THE HELP OF THE MINI DEMON HUNTERS \n\n\nPRICE INCLUDES CRUISE AND LUNCH BOX FOR THE KIDS \n\n\nHOT DRINK AND CAKE FOR THE ADULTS \nBOARDING 1.30PM FOR A 2PM CRUISE
URL:https://teessideprincess.co.uk/event/k-pop-demon-hunters-childrens-cruise/
LOCATION:Teesside Princess\, United Kingdom
CATEGORIES:Afternoon Cruises,Child Friendly event,Daytime Cruises,Monthly Events,Special events,Sunday cruises,themed cruises
END:VEVENT
END:VCALENDAR