BEGIN:VCALENDAR
VERSION:2.0
PRODID:-//Teesside Princess - ECPv6.15.20//NONSGML v1.0//EN
CALSCALE:GREGORIAN
METHOD:PUBLISH
X-WR-CALNAME:Teesside Princess
X-ORIGINAL-URL:https://teessideprincess.co.uk
X-WR-CALDESC:Events for Teesside Princess
REFRESH-INTERVAL;VALUE=DURATION:PT1H
X-Robots-Tag:noindex
X-PUBLISHED-TTL:PT1H
BEGIN:VTIMEZONE
TZID:Europe/London
BEGIN:DAYLIGHT
TZOFFSETFROM:+0000
TZOFFSETTO:+0100
TZNAME:BST
DTSTART:20250330T010000
END:DAYLIGHT
BEGIN:STANDARD
TZOFFSETFROM:+0100
TZOFFSETTO:+0000
TZNAME:GMT
DTSTART:20251026T010000
END:STANDARD
BEGIN:DAYLIGHT
TZOFFSETFROM:+0000
TZOFFSETTO:+0100
TZNAME:BST
DTSTART:20260329T010000
END:DAYLIGHT
BEGIN:STANDARD
TZOFFSETFROM:+0100
TZOFFSETTO:+0000
TZNAME:GMT
DTSTART:20261025T010000
END:STANDARD
BEGIN:DAYLIGHT
TZOFFSETFROM:+0000
TZOFFSETTO:+0100
TZNAME:BST
DTSTART:20270328T010000
END:DAYLIGHT
BEGIN:STANDARD
TZOFFSETFROM:+0100
TZOFFSETTO:+0000
TZNAME:GMT
DTSTART:20271031T010000
END:STANDARD
END:VTIMEZONE
BEGIN:VEVENT
DTSTART;TZID=Europe/London:20260424T120000
DTEND;TZID=Europe/London:20260424T153000
DTSTAMP:20260424T052040
CREATED:20251223T144808Z
LAST-MODIFIED:20251223T144808Z
UID:10001580-1777032000-1777044600@teessideprincess.co.uk
SUMMARY:Afternoon Tea Cruise
DESCRIPTION:The most British way to spend your afternoon\, cruise down the River Tees on a 3 hour trip with a delicious Afternoon Tea \nKeep a lookout for the wildlife\, you may be able to spot swans\, foxes\, kingfishers & deer as you sail up to Yarm and back down the Tees Barrage. \nA traditional mini-meal includes a range of fresh sandwiches\, salad\, scones with jam & clotted cream and a selection of sweet treats. \nBoard from 11.30am for a 12pm cruise \nPLEASE NOTE ONLY TOP DECK SALOON SEATING AREA AVAILABLE
URL:https://teessideprincess.co.uk/event/afternoon-tea-cruise-2/
LOCATION:Teesside Princess\, United Kingdom
CATEGORIES:Afternoon Cruises,Afternoon Tea,Daytime Cruises,Special events,themed cruises
END:VEVENT
BEGIN:VEVENT
DTSTART;TZID=Europe/London:20260424T120000
DTEND;TZID=Europe/London:20260424T153000
DTSTAMP:20260424T052040
CREATED:20260108T095644Z
LAST-MODIFIED:20260108T095644Z
UID:10001609-1777032000-1777044600@teessideprincess.co.uk
SUMMARY:Cruise Only Tickets
DESCRIPTION:Experience the River Tees in all its glory on our return trips. \nStarting at Castlegate Quay in stockton\, we head upstream to Preston Park\, then on towards Yarm. \nTake in the scenic views from the warmth and comfort of the Teesside Princess. \nPlease note there is a fully licenced bar and refreshments on board\, we do not allow own food consumption on board. \nBoarding gates open 30 minutes prior to the departure time
URL:https://teessideprincess.co.uk/event/cruise-only-tickets-16/
LOCATION:Teesside Princess\, United Kingdom
CATEGORIES:Afternoon Cruises,Daytime Cruises
END:VEVENT
BEGIN:VEVENT
DTSTART;TZID=Europe/London:20260424T200000
DTEND;TZID=Europe/London:20260424T230000
DTSTAMP:20260424T052040
CREATED:20251103T155719Z
LAST-MODIFIED:20260422T150303Z
UID:10001549-1777060800-1777071600@teessideprincess.co.uk
SUMMARY:Acoustic Weller live 2026
DESCRIPTION:Acoustic Weller makes a welcome return this April\, bringing you music from The Jam\, Style Council and Weller. \nTickets include 3hour cruise with a pie and pea supper. \n  \nBoarding 7.30pm  for an 8pm departure
URL:https://teessideprincess.co.uk/event/acoustic-weller-live-2026/
CATEGORIES:Evening cruise,live music,Monthly Events,night cruises,Special events
END:VEVENT
END:VCALENDAR